BEGIN:VCALENDAR
VERSION:2.0
PRODID:-//Garner Historic District - ECPv6.1.3//NONSGML v1.0//EN
CALSCALE:GREGORIAN
METHOD:PUBLISH
X-ORIGINAL-URL:https://garnerhistoricdistrict.com
X-WR-CALDESC:Events for Garner Historic District
REFRESH-INTERVAL;VALUE=DURATION:PT1H
X-Robots-Tag:noindex
X-PUBLISHED-TTL:PT1H
BEGIN:VTIMEZONE
TZID:America/New_York
BEGIN:DAYLIGHT
TZOFFSETFROM:-0500
TZOFFSETTO:-0400
TZNAME:EDT
DTSTART:20230312T070000
END:DAYLIGHT
BEGIN:STANDARD
TZOFFSETFROM:-0400
TZOFFSETTO:-0500
TZNAME:EST
DTSTART:20231105T060000
END:STANDARD
END:VTIMEZONE
BEGIN:VEVENT
DTSTART;TZID=America/New_York:20230416T130000
DTEND;TZID=America/New_York:20230416T170000
DTSTAMP:20260425T123413
CREATED:20230127T202448Z
LAST-MODIFIED:20230214T193800Z
UID:2610-1681650000-1681664400@garnerhistoricdistrict.com
SUMMARY:Vladimir Cybil Charlier\, Main Gallery & Sari Dienes\, Harris Gallery
DESCRIPTION:GARNER Arts Center\nBuilding 35 \nhttps://garnerartscenter.org/
URL:https://garnerhistoricdistrict.com/event/vladimir-cybil-charlier-main-gallery-sari-dienes-harris-gallery-4-16-23/
END:VEVENT
END:VCALENDAR