BEGIN:VCALENDAR
VERSION:2.0
PRODID:-//Garner Historic District - ECPv6.1.3//NONSGML v1.0//EN
CALSCALE:GREGORIAN
METHOD:PUBLISH
X-WR-CALNAME:Garner Historic District
X-ORIGINAL-URL:https://garnerhistoricdistrict.com
X-WR-CALDESC:Events for Garner Historic District
REFRESH-INTERVAL;VALUE=DURATION:PT1H
X-Robots-Tag:noindex
X-PUBLISHED-TTL:PT1H
BEGIN:VTIMEZONE
TZID:America/New_York
BEGIN:DAYLIGHT
TZOFFSETFROM:-0500
TZOFFSETTO:-0400
TZNAME:EDT
DTSTART:20230312T070000
END:DAYLIGHT
BEGIN:STANDARD
TZOFFSETFROM:-0400
TZOFFSETTO:-0500
TZNAME:EST
DTSTART:20231105T060000
END:STANDARD
END:VTIMEZONE
BEGIN:VEVENT
DTSTART;TZID=America/New_York:20231118T170000
DTEND;TZID=America/New_York:20231118T190000
DTSTAMP:20260422T025712
CREATED:20230127T204947Z
LAST-MODIFIED:20230822T185846Z
UID:2755-1700326800-1700334000@garnerhistoricdistrict.com
SUMMARY:GARNER Member Show
DESCRIPTION:Gallery OpeningGARNER Arts Center\nBuilding 35 \nhttps://garnerartscenter.org/
URL:https://garnerhistoricdistrict.com/event/garner-member-show/
CATEGORIES:Gallery Openings
END:VEVENT
END:VCALENDAR