BEGIN:VCALENDAR
VERSION:2.0
PRODID:-//Garner Historic District - ECPv6.1.3//NONSGML v1.0//EN
CALSCALE:GREGORIAN
METHOD:PUBLISH
X-WR-CALNAME:Garner Historic District
X-ORIGINAL-URL:https://garnerhistoricdistrict.com
X-WR-CALDESC:Events for Garner Historic District
REFRESH-INTERVAL;VALUE=DURATION:PT1H
X-Robots-Tag:noindex
X-PUBLISHED-TTL:PT1H
BEGIN:VTIMEZONE
TZID:America/New_York
BEGIN:DAYLIGHT
TZOFFSETFROM:-0500
TZOFFSETTO:-0400
TZNAME:EDT
DTSTART:20230312T070000
END:DAYLIGHT
BEGIN:STANDARD
TZOFFSETFROM:-0400
TZOFFSETTO:-0500
TZNAME:EST
DTSTART:20231105T060000
END:STANDARD
END:VTIMEZONE
BEGIN:VEVENT
DTSTART;TZID=America/New_York:20230401T130000
DTEND;TZID=America/New_York:20230401T170000
DTSTAMP:20260425T110233
CREATED:20230127T202246Z
LAST-MODIFIED:20230214T193831Z
UID:2590-1680354000-1680368400@garnerhistoricdistrict.com
SUMMARY:Vladimir Cybil Charlier\, Main Gallery & Sari Dienes\, Harris Gallery
DESCRIPTION:GARNER Arts Center\nBuilding 35 \nhttps://garnerartscenter.org/
URL:https://garnerhistoricdistrict.com/event/vladimir-cybil-charlier-main-gallery-sari-dienes-harris-gallery-4-1-23/
END:VEVENT
BEGIN:VEVENT
DTSTART;TZID=America/New_York:20230402T130000
DTEND;TZID=America/New_York:20230402T170000
DTSTAMP:20260425T110233
CREATED:20230127T202254Z
LAST-MODIFIED:20230214T193825Z
UID:2592-1680440400-1680454800@garnerhistoricdistrict.com
SUMMARY:Vladimir Cybil Charlier\, Main Gallery & Sari Dienes\, Harris Gallery
DESCRIPTION:GARNER Arts Center\nBuilding 35 \nhttps://garnerartscenter.org/
URL:https://garnerhistoricdistrict.com/event/vladimir-cybil-charlier-main-gallery-sari-dienes-harris-gallery-4-2-23/
END:VEVENT
BEGIN:VEVENT
DTSTART;TZID=America/New_York:20230408T130000
DTEND;TZID=America/New_York:20230408T170000
DTSTAMP:20260425T110233
CREATED:20230127T202437Z
LAST-MODIFIED:20230214T193821Z
UID:2606-1680958800-1680973200@garnerhistoricdistrict.com
SUMMARY:Vladimir Cybil Charlier\, Main Gallery & Sari Dienes\, Harris Gallery
DESCRIPTION:GARNER Arts Center\nBuilding 35 \nhttps://garnerartscenter.org/
URL:https://garnerhistoricdistrict.com/event/vladimir-cybil-charlier-main-gallery-sari-dienes-harris-gallery-4-8-23/
END:VEVENT
BEGIN:VEVENT
DTSTART;TZID=America/New_York:20230409T130000
DTEND;TZID=America/New_York:20230409T170000
DTSTAMP:20260425T110233
CREATED:20230127T202440Z
LAST-MODIFIED:20230214T193816Z
UID:2607-1681045200-1681059600@garnerhistoricdistrict.com
SUMMARY:Vladimir Cybil Charlier\, Main Gallery & Sari Dienes\, Harris Gallery
DESCRIPTION:GARNER Arts Center\nBuilding 35 \nhttps://garnerartscenter.org/
URL:https://garnerhistoricdistrict.com/event/vladimir-cybil-charlier-main-gallery-sari-dienes-harris-gallery-4-9-23/
END:VEVENT
BEGIN:VEVENT
DTSTART;TZID=America/New_York:20230415T130000
DTEND;TZID=America/New_York:20230415T170000
DTSTAMP:20260425T110233
CREATED:20230127T202443Z
LAST-MODIFIED:20230214T193812Z
UID:2608-1681563600-1681578000@garnerhistoricdistrict.com
SUMMARY:Vladimir Cybil Charlier\, Main Gallery & Sari Dienes\, Harris Gallery
DESCRIPTION:GARNER Arts Center\nBuilding 35 \nhttps://garnerartscenter.org/
URL:https://garnerhistoricdistrict.com/event/vladimir-cybil-charlier-main-gallery-sari-dienes-harris-gallery-4-15-23/
END:VEVENT
BEGIN:VEVENT
DTSTART;TZID=America/New_York:20230416T130000
DTEND;TZID=America/New_York:20230416T170000
DTSTAMP:20260425T110233
CREATED:20230127T202448Z
LAST-MODIFIED:20230214T193800Z
UID:2610-1681650000-1681664400@garnerhistoricdistrict.com
SUMMARY:Vladimir Cybil Charlier\, Main Gallery & Sari Dienes\, Harris Gallery
DESCRIPTION:GARNER Arts Center\nBuilding 35 \nhttps://garnerartscenter.org/
URL:https://garnerhistoricdistrict.com/event/vladimir-cybil-charlier-main-gallery-sari-dienes-harris-gallery-4-16-23/
END:VEVENT
BEGIN:VEVENT
DTSTART;TZID=America/New_York:20230422T130000
DTEND;TZID=America/New_York:20230422T170000
DTSTAMP:20260425T110233
CREATED:20230127T202452Z
LAST-MODIFIED:20230214T193754Z
UID:2609-1682168400-1682182800@garnerhistoricdistrict.com
SUMMARY:Vladimir Cybil Charlier\, Main Gallery & Sari Dienes\, Harris Gallery
DESCRIPTION:GARNER Arts Center\nBuilding 35 \nhttps://garnerartscenter.org/
URL:https://garnerhistoricdistrict.com/event/vladimir-cybil-charlier-main-gallery-sari-dienes-harris-gallery-4-22-23/
END:VEVENT
BEGIN:VEVENT
DTSTART;TZID=America/New_York:20230423T130000
DTEND;TZID=America/New_York:20230423T170000
DTSTAMP:20260425T110233
CREATED:20230127T202454Z
LAST-MODIFIED:20230214T193749Z
UID:2612-1682254800-1682269200@garnerhistoricdistrict.com
SUMMARY:Vladimir Cybil Charlier\, Main Gallery & Sari Dienes\, Harris Gallery
DESCRIPTION:GARNER Arts Center\nBuilding 35 \nhttps://garnerartscenter.org/
URL:https://garnerhistoricdistrict.com/event/vladimir-cybil-charlier-main-gallery-sari-dienes-harris-gallery-4-23-23/
END:VEVENT
END:VCALENDAR