BEGIN:VCALENDAR
VERSION:2.0
PRODID:-//Garner Historic District - ECPv6.1.3//NONSGML v1.0//EN
CALSCALE:GREGORIAN
METHOD:PUBLISH
X-WR-CALNAME:Garner Historic District
X-ORIGINAL-URL:https://garnerhistoricdistrict.com
X-WR-CALDESC:Events for Garner Historic District
REFRESH-INTERVAL;VALUE=DURATION:PT1H
X-Robots-Tag:noindex
X-PUBLISHED-TTL:PT1H
BEGIN:VTIMEZONE
TZID:America/New_York
BEGIN:DAYLIGHT
TZOFFSETFROM:-0500
TZOFFSETTO:-0400
TZNAME:EDT
DTSTART:20230312T070000
END:DAYLIGHT
BEGIN:STANDARD
TZOFFSETFROM:-0400
TZOFFSETTO:-0500
TZNAME:EST
DTSTART:20231105T060000
END:STANDARD
END:VTIMEZONE
BEGIN:VEVENT
DTSTART;TZID=America/New_York:20230506T170000
DTEND;TZID=America/New_York:20230506T190000
DTSTAMP:20260425T092011
CREATED:20230127T202724Z
LAST-MODIFIED:20230519T131744Z
UID:2626-1683392400-1683399600@garnerhistoricdistrict.com
SUMMARY:Exhibition Gerbomatic\, Steve Gerberich and Polly King
DESCRIPTION:Gallery OpeningGARNER Arts Center\nBuilding 35 \nhttps://garnerartscenter.org/
URL:https://garnerhistoricdistrict.com/event/gerbomatic-5-6-23/
CATEGORIES:Gallery Openings
END:VEVENT
BEGIN:VEVENT
DTSTART;TZID=America/New_York:20230507T130000
DTEND;TZID=America/New_York:20230507T170000
DTSTAMP:20260425T092011
CREATED:20230127T202727Z
LAST-MODIFIED:20230519T131721Z
UID:2611-1683464400-1683478800@garnerhistoricdistrict.com
SUMMARY:Exhibition Gerbomatic\, Steve Gerberich and Polly King
DESCRIPTION:GARNER Arts Center\nBuilding 35 \nhttps://garnerartscenter.org/
URL:https://garnerhistoricdistrict.com/event/gerbomatic-5-7-23/
END:VEVENT
BEGIN:VEVENT
DTSTART;TZID=America/New_York:20230513T130000
DTEND;TZID=America/New_York:20230513T170000
DTSTAMP:20260425T092011
CREATED:20230127T202854Z
LAST-MODIFIED:20230519T131826Z
UID:2629-1683982800-1683997200@garnerhistoricdistrict.com
SUMMARY:Exhibition Gerbomatic\, Steve Gerberich and Polly King
DESCRIPTION:GARNER Arts Center\nBuilding 35 \nhttps://garnerartscenter.org/
URL:https://garnerhistoricdistrict.com/event/gerbomatic-5-13-23/
END:VEVENT
BEGIN:VEVENT
DTSTART;TZID=America/New_York:20230514T130000
DTEND;TZID=America/New_York:20230514T170000
DTSTAMP:20260425T092011
CREATED:20230127T202859Z
LAST-MODIFIED:20230519T131829Z
UID:2630-1684069200-1684083600@garnerhistoricdistrict.com
SUMMARY:Exhibition Gerbomatic\, Steve Gerberich and Polly King
DESCRIPTION:GARNER Arts Center\nBuilding 35 \nhttps://garnerartscenter.org/
URL:https://garnerhistoricdistrict.com/event/gerbomatic-5-14-23/
END:VEVENT
BEGIN:VEVENT
DTSTART;TZID=America/New_York:20230520T120000
DTEND;TZID=America/New_York:20230520T180000
DTSTAMP:20260425T092011
CREATED:20230127T203603Z
LAST-MODIFIED:20230519T132015Z
UID:2701-1684584000-1684605600@garnerhistoricdistrict.com
SUMMARY:Event Maker Faire Hudson Valley
DESCRIPTION:Complex-Wide Festival
URL:https://garnerhistoricdistrict.com/event/maker-faire-hudson-valley/
END:VEVENT
BEGIN:VEVENT
DTSTART;TZID=America/New_York:20230520T130000
DTEND;TZID=America/New_York:20230520T170000
DTSTAMP:20260425T092011
CREATED:20230127T202902Z
LAST-MODIFIED:20230519T131835Z
UID:2631-1684587600-1684602000@garnerhistoricdistrict.com
SUMMARY:Exhibition Gerbomatic\, Steve Gerberich and Polly King
DESCRIPTION:GARNER Arts Center\nBuilding 35 \nhttps://garnerartscenter.org/
URL:https://garnerhistoricdistrict.com/event/gerbomatic-5-20-23/
END:VEVENT
BEGIN:VEVENT
DTSTART;TZID=America/New_York:20230521T120000
DTEND;TZID=America/New_York:20230521T180000
DTSTAMP:20260425T092011
CREATED:20230127T203632Z
LAST-MODIFIED:20230519T132012Z
UID:2703-1684670400-1684692000@garnerhistoricdistrict.com
SUMMARY:Event Maker Faire Hudson Valley
DESCRIPTION:Complex-Wide Festival
URL:https://garnerhistoricdistrict.com/event/maker-faire-hudson-valley-5-21-23/
END:VEVENT
BEGIN:VEVENT
DTSTART;TZID=America/New_York:20230521T130000
DTEND;TZID=America/New_York:20230521T170000
DTSTAMP:20260425T092011
CREATED:20230127T202926Z
LAST-MODIFIED:20230519T131838Z
UID:2632-1684674000-1684688400@garnerhistoricdistrict.com
SUMMARY:Exhibition Gerbomatic\, Steve Gerberich and Polly King
DESCRIPTION:GARNER Arts Center\nBuilding 35 \nhttps://garnerartscenter.org/
URL:https://garnerhistoricdistrict.com/event/gerbomatic-5-21-23/
END:VEVENT
BEGIN:VEVENT
DTSTART;TZID=America/New_York:20230527T130000
DTEND;TZID=America/New_York:20230527T170000
DTSTAMP:20260425T092011
CREATED:20230127T202928Z
LAST-MODIFIED:20230519T131841Z
UID:2633-1685192400-1685206800@garnerhistoricdistrict.com
SUMMARY:Exhibition Gerbomatic\, Steve Gerberich and Polly King
DESCRIPTION:GARNER Arts Center\nBuilding 35 \nhttps://garnerartscenter.org/
URL:https://garnerhistoricdistrict.com/event/gerbomatic-5-27-23/
END:VEVENT
BEGIN:VEVENT
DTSTART;TZID=America/New_York:20230528T130000
DTEND;TZID=America/New_York:20230528T170000
DTSTAMP:20260425T092011
CREATED:20230127T202931Z
LAST-MODIFIED:20230519T131845Z
UID:2634-1685278800-1685293200@garnerhistoricdistrict.com
SUMMARY:Exhibition Gerbomatic\, Steve Gerberich and Polly King
DESCRIPTION:GARNER Arts Center\nBuilding 35 \nhttps://garnerartscenter.org/
URL:https://garnerhistoricdistrict.com/event/gerbomatic-5-28-23/
END:VEVENT
END:VCALENDAR