BEGIN:VCALENDAR
VERSION:2.0
PRODID:-//Garner Historic District - ECPv6.1.3//NONSGML v1.0//EN
CALSCALE:GREGORIAN
METHOD:PUBLISH
X-WR-CALNAME:Garner Historic District
X-ORIGINAL-URL:https://garnerhistoricdistrict.com
X-WR-CALDESC:Events for Garner Historic District
REFRESH-INTERVAL;VALUE=DURATION:PT1H
X-Robots-Tag:noindex
X-PUBLISHED-TTL:PT1H
BEGIN:VTIMEZONE
TZID:America/New_York
BEGIN:DAYLIGHT
TZOFFSETFROM:-0500
TZOFFSETTO:-0400
TZNAME:EDT
DTSTART:20230312T070000
END:DAYLIGHT
BEGIN:STANDARD
TZOFFSETFROM:-0400
TZOFFSETTO:-0500
TZNAME:EST
DTSTART:20231105T060000
END:STANDARD
END:VTIMEZONE
BEGIN:VEVENT
DTSTART;TZID=America/New_York:20230603T130000
DTEND;TZID=America/New_York:20230603T170000
DTSTAMP:20260425T074418
CREATED:20230127T202933Z
LAST-MODIFIED:20230519T131851Z
UID:2635-1685797200-1685811600@garnerhistoricdistrict.com
SUMMARY:Exhibition Gerbomatic\, Steve Gerberich and Polly King
DESCRIPTION:GARNER Arts Center\nBuilding 35 \nhttps://garnerartscenter.org/
URL:https://garnerhistoricdistrict.com/event/gerbomatic-6-3-23/
END:VEVENT
BEGIN:VEVENT
DTSTART;TZID=America/New_York:20230604T130000
DTEND;TZID=America/New_York:20230604T170000
DTSTAMP:20260425T074418
CREATED:20230127T202936Z
LAST-MODIFIED:20230519T131854Z
UID:2636-1685883600-1685898000@garnerhistoricdistrict.com
SUMMARY:Exhibition Gerbomatic\, Steve Gerberich and Polly King
DESCRIPTION:GARNER Arts Center\nBuilding 35 \nhttps://garnerartscenter.org/
URL:https://garnerhistoricdistrict.com/event/gerbomatic-6-4-23/
END:VEVENT
BEGIN:VEVENT
DTSTART;TZID=America/New_York:20230610T130000
DTEND;TZID=America/New_York:20230610T170000
DTSTAMP:20260425T074418
CREATED:20230127T203221Z
LAST-MODIFIED:20230519T131857Z
UID:2656-1686402000-1686416400@garnerhistoricdistrict.com
SUMMARY:Exhibition Gerbomatic\, Steve Gerberich and Polly King
DESCRIPTION:GARNER Arts Center\nBuilding 35 \nhttps://garnerartscenter.org/
URL:https://garnerhistoricdistrict.com/event/gerbomatic-6-10-23/
END:VEVENT
BEGIN:VEVENT
DTSTART;TZID=America/New_York:20230611T130000
DTEND;TZID=America/New_York:20230611T170000
DTSTAMP:20260425T074418
CREATED:20230127T203225Z
LAST-MODIFIED:20230519T131901Z
UID:2657-1686488400-1686502800@garnerhistoricdistrict.com
SUMMARY:Exhibition Gerbomatic\, Steve Gerberich and Polly King
DESCRIPTION:GARNER Arts Center\nBuilding 35 \nhttps://garnerartscenter.org/
URL:https://garnerhistoricdistrict.com/event/gerbomatic-6-11-23/
END:VEVENT
BEGIN:VEVENT
DTSTART;TZID=America/New_York:20230617T130000
DTEND;TZID=America/New_York:20230617T170000
DTSTAMP:20260425T074418
CREATED:20230127T203228Z
LAST-MODIFIED:20230519T131904Z
UID:2658-1687006800-1687021200@garnerhistoricdistrict.com
SUMMARY:Exhibition Gerbomatic\, Steve Gerberich and Polly King
DESCRIPTION:GARNER Arts Center\nBuilding 35 \nhttps://garnerartscenter.org/
URL:https://garnerhistoricdistrict.com/event/gerbomatic-6-17-23/
END:VEVENT
BEGIN:VEVENT
DTSTART;TZID=America/New_York:20230618T130000
DTEND;TZID=America/New_York:20230618T170000
DTSTAMP:20260425T074418
CREATED:20230127T203230Z
LAST-MODIFIED:20230519T131909Z
UID:2659-1687093200-1687107600@garnerhistoricdistrict.com
SUMMARY:Exhibition Gerbomatic\, Steve Gerberich and Polly King
DESCRIPTION:GARNER Arts Center\nBuilding 35 \nhttps://garnerartscenter.org/
URL:https://garnerhistoricdistrict.com/event/gerbomatic-6-18-23/
END:VEVENT
BEGIN:VEVENT
DTSTART;TZID=America/New_York:20230624T130000
DTEND;TZID=America/New_York:20230624T170000
DTSTAMP:20260425T074418
CREATED:20230127T203232Z
LAST-MODIFIED:20230519T131915Z
UID:2660-1687611600-1687626000@garnerhistoricdistrict.com
SUMMARY:Exhibition Gerbomatic\, Steve Gerberich and Polly King
DESCRIPTION:GARNER Arts Center\nBuilding 35 \nhttps://garnerartscenter.org/
URL:https://garnerhistoricdistrict.com/event/gerbomatic-6-24-23/
END:VEVENT
BEGIN:VEVENT
DTSTART;TZID=America/New_York:20230625T130000
DTEND;TZID=America/New_York:20230625T170000
DTSTAMP:20260425T074418
CREATED:20230127T203235Z
LAST-MODIFIED:20230519T131920Z
UID:2662-1687698000-1687712400@garnerhistoricdistrict.com
SUMMARY:Exhibition Gerbomatic\, Steve Gerberich and Polly King
DESCRIPTION:GARNER Arts Center\nBuilding 35 \nhttps://garnerartscenter.org/
URL:https://garnerhistoricdistrict.com/event/gerbomatic-6-25-23/
END:VEVENT
END:VCALENDAR