BEGIN:VCALENDAR
VERSION:2.0
PRODID:-//Garner Historic District - ECPv6.1.3//NONSGML v1.0//EN
CALSCALE:GREGORIAN
METHOD:PUBLISH
X-ORIGINAL-URL:https://garnerhistoricdistrict.com
X-WR-CALDESC:Events for Garner Historic District
REFRESH-INTERVAL;VALUE=DURATION:PT1H
X-Robots-Tag:noindex
X-PUBLISHED-TTL:PT1H
BEGIN:VTIMEZONE
TZID:America/New_York
BEGIN:DAYLIGHT
TZOFFSETFROM:-0500
TZOFFSETTO:-0400
TZNAME:EDT
DTSTART:20250309T070000
END:DAYLIGHT
BEGIN:STANDARD
TZOFFSETFROM:-0400
TZOFFSETTO:-0500
TZNAME:EST
DTSTART:20251102T060000
END:STANDARD
END:VTIMEZONE
BEGIN:VEVENT
DTSTART;TZID=America/New_York:20250913T170000
DTEND;TZID=America/New_York:20250913T190000
DTSTAMP:20260422T092945
CREATED:20250903T192733Z
LAST-MODIFIED:20250903T192733Z
UID:4713-1757782800-1757790000@garnerhistoricdistrict.com
SUMMARY:Resonance & Enrichment Opening Reception
DESCRIPTION:GARNER Arts Center
URL:https://garnerhistoricdistrict.com/event/resonance-enrichment-opening-reception/
LOCATION:GARNER Arts Center\, Building 35
END:VEVENT
BEGIN:VEVENT
DTSTART;TZID=America/New_York:20250914T130000
DTEND;TZID=America/New_York:20250914T170000
DTSTAMP:20260422T092945
CREATED:20250903T192812Z
LAST-MODIFIED:20250903T192812Z
UID:4715-1757854800-1757869200@garnerhistoricdistrict.com
SUMMARY:Resonance & Enrichment Gallery Hours
DESCRIPTION:GARNER Arts Center
URL:https://garnerhistoricdistrict.com/event/resonance-enrichment-gallery-hours/
LOCATION:GARNER Arts Center\, Building 35
END:VEVENT
BEGIN:VEVENT
DTSTART;TZID=America/New_York:20250919T140000
DTEND;TZID=America/New_York:20250919T170000
DTSTAMP:20260422T092945
CREATED:20250903T192835Z
LAST-MODIFIED:20250903T192835Z
UID:4717-1758290400-1758301200@garnerhistoricdistrict.com
SUMMARY:Resonance & Enrichment Gallery Hours
DESCRIPTION:GARNER Arts Center
URL:https://garnerhistoricdistrict.com/event/resonance-enrichment-gallery-hours-2/
LOCATION:GARNER Arts Center\, Building 35
END:VEVENT
BEGIN:VEVENT
DTSTART;TZID=America/New_York:20250920T130000
DTEND;TZID=America/New_York:20250920T170000
DTSTAMP:20260422T092945
CREATED:20250903T193017Z
LAST-MODIFIED:20250903T193017Z
UID:4719-1758373200-1758387600@garnerhistoricdistrict.com
SUMMARY:Resonance & Enrichment Gallery Hours
DESCRIPTION:GARNER Arts Center
URL:https://garnerhistoricdistrict.com/event/resonance-enrichment-gallery-hours-3/
LOCATION:GARNER Arts Center\, Building 35
END:VEVENT
BEGIN:VEVENT
DTSTART;TZID=America/New_York:20250921T130000
DTEND;TZID=America/New_York:20250921T170000
DTSTAMP:20260422T092945
CREATED:20250903T193028Z
LAST-MODIFIED:20250903T193028Z
UID:4721-1758459600-1758474000@garnerhistoricdistrict.com
SUMMARY:Resonance & Enrichment Gallery Hours
DESCRIPTION:GARNER Arts Center
URL:https://garnerhistoricdistrict.com/event/resonance-enrichment-gallery-hours-4/
LOCATION:GARNER Arts Center\, Building 35
END:VEVENT
BEGIN:VEVENT
DTSTART;TZID=America/New_York:20250926T140000
DTEND;TZID=America/New_York:20250926T170000
DTSTAMP:20260422T092945
CREATED:20250903T193043Z
LAST-MODIFIED:20250903T193043Z
UID:4723-1758895200-1758906000@garnerhistoricdistrict.com
SUMMARY:Resonance & Enrichment Gallery Hours
DESCRIPTION:GARNER Arts Center
URL:https://garnerhistoricdistrict.com/event/resonance-enrichment-gallery-hours-5/
LOCATION:GARNER Arts Center\, Building 35
END:VEVENT
BEGIN:VEVENT
DTSTART;TZID=America/New_York:20250927T130000
DTEND;TZID=America/New_York:20250927T170000
DTSTAMP:20260422T092945
CREATED:20250903T193058Z
LAST-MODIFIED:20250903T193058Z
UID:4725-1758978000-1758992400@garnerhistoricdistrict.com
SUMMARY:Resonance & Enrichment Gallery Hours
DESCRIPTION:GARNER Arts Center
URL:https://garnerhistoricdistrict.com/event/resonance-enrichment-gallery-hours-6/
LOCATION:GARNER Arts Center\, Building 35
END:VEVENT
BEGIN:VEVENT
DTSTART;TZID=America/New_York:20250928T130000
DTEND;TZID=America/New_York:20250928T170000
DTSTAMP:20260422T092945
CREATED:20250903T193109Z
LAST-MODIFIED:20250903T193109Z
UID:4727-1759064400-1759078800@garnerhistoricdistrict.com
SUMMARY:Resonance & Enrichment Gallery Hours
DESCRIPTION:GARNER Arts Center
URL:https://garnerhistoricdistrict.com/event/resonance-enrichment-gallery-hours-7/
LOCATION:GARNER Arts Center\, Building 35
END:VEVENT
END:VCALENDAR