BEGIN:VCALENDAR
VERSION:2.0
PRODID:-//Garner Historic District - ECPv6.1.3//NONSGML v1.0//EN
CALSCALE:GREGORIAN
METHOD:PUBLISH
X-WR-CALNAME:Garner Historic District
X-ORIGINAL-URL:https://garnerhistoricdistrict.com
X-WR-CALDESC:Events for Garner Historic District
REFRESH-INTERVAL;VALUE=DURATION:PT1H
X-Robots-Tag:noindex
X-PUBLISHED-TTL:PT1H
BEGIN:VTIMEZONE
TZID:America/New_York
BEGIN:DAYLIGHT
TZOFFSETFROM:-0500
TZOFFSETTO:-0400
TZNAME:EDT
DTSTART:20250309T070000
END:DAYLIGHT
BEGIN:STANDARD
TZOFFSETFROM:-0400
TZOFFSETTO:-0500
TZNAME:EST
DTSTART:20251102T060000
END:STANDARD
END:VTIMEZONE
BEGIN:VEVENT
DTSTART;TZID=America/New_York:20251003T140000
DTEND;TZID=America/New_York:20251003T170000
DTSTAMP:20260422T105429
CREATED:20250903T193124Z
LAST-MODIFIED:20250903T193124Z
UID:4729-1759500000-1759510800@garnerhistoricdistrict.com
SUMMARY:Resonance & Enrichment Gallery Hours
DESCRIPTION:GARNER Arts Center
URL:https://garnerhistoricdistrict.com/event/resonance-enrichment-gallery-hours-8/
LOCATION:GARNER Arts Center\, Building 35
END:VEVENT
BEGIN:VEVENT
DTSTART;TZID=America/New_York:20251004T130000
DTEND;TZID=America/New_York:20251004T170000
DTSTAMP:20260422T105429
CREATED:20250903T193139Z
LAST-MODIFIED:20250903T193139Z
UID:4731-1759582800-1759597200@garnerhistoricdistrict.com
SUMMARY:Resonance & Enrichment Gallery Hours
DESCRIPTION:GARNER Arts Center
URL:https://garnerhistoricdistrict.com/event/resonance-enrichment-gallery-hours-9/
LOCATION:GARNER Arts Center\, Building 35
END:VEVENT
BEGIN:VEVENT
DTSTART;TZID=America/New_York:20251005T130000
DTEND;TZID=America/New_York:20251005T170000
DTSTAMP:20260422T105429
CREATED:20250903T193150Z
LAST-MODIFIED:20250903T193150Z
UID:4733-1759669200-1759683600@garnerhistoricdistrict.com
SUMMARY:Resonance & Enrichment Gallery Hours
DESCRIPTION:GARNER Arts Center
URL:https://garnerhistoricdistrict.com/event/resonance-enrichment-gallery-hours-10/
LOCATION:GARNER Arts Center\, Building 35
END:VEVENT
BEGIN:VEVENT
DTSTART;TZID=America/New_York:20251010T140000
DTEND;TZID=America/New_York:20251010T170000
DTSTAMP:20260422T105429
CREATED:20250903T193225Z
LAST-MODIFIED:20250903T193225Z
UID:4735-1760104800-1760115600@garnerhistoricdistrict.com
SUMMARY:Resonance & Enrichment Gallery Hours
DESCRIPTION:GARNER Arts Center
URL:https://garnerhistoricdistrict.com/event/resonance-enrichment-gallery-hours-11/
LOCATION:GARNER Arts Center\, Building 35
END:VEVENT
BEGIN:VEVENT
DTSTART;TZID=America/New_York:20251011T130000
DTEND;TZID=America/New_York:20251011T170000
DTSTAMP:20260422T105429
CREATED:20250903T193240Z
LAST-MODIFIED:20250903T193240Z
UID:4737-1760187600-1760202000@garnerhistoricdistrict.com
SUMMARY:Resonance & Enrichment Gallery Hours
DESCRIPTION:GARNER Arts Center
URL:https://garnerhistoricdistrict.com/event/resonance-enrichment-gallery-hours-12/
LOCATION:GARNER Arts Center\, Building 35
END:VEVENT
BEGIN:VEVENT
DTSTART;TZID=America/New_York:20251012T130000
DTEND;TZID=America/New_York:20251012T170000
DTSTAMP:20260422T105429
CREATED:20250903T193250Z
LAST-MODIFIED:20250903T193250Z
UID:4739-1760274000-1760288400@garnerhistoricdistrict.com
SUMMARY:Resonance & Enrichment Gallery Hours
DESCRIPTION:GARNER Arts Center
URL:https://garnerhistoricdistrict.com/event/resonance-enrichment-gallery-hours-13/
LOCATION:GARNER Arts Center\, Building 35
END:VEVENT
BEGIN:VEVENT
DTSTART;TZID=America/New_York:20251017T140000
DTEND;TZID=America/New_York:20251017T170000
DTSTAMP:20260422T105429
CREATED:20250903T193302Z
LAST-MODIFIED:20250903T193302Z
UID:4741-1760709600-1760720400@garnerhistoricdistrict.com
SUMMARY:Resonance & Enrichment Gallery Hours
DESCRIPTION:GARNER Arts Center
URL:https://garnerhistoricdistrict.com/event/resonance-enrichment-gallery-hours-14/
LOCATION:GARNER Arts Center\, Building 35
END:VEVENT
BEGIN:VEVENT
DTSTART;TZID=America/New_York:20251018T130000
DTEND;TZID=America/New_York:20251018T170000
DTSTAMP:20260422T105429
CREATED:20250903T193316Z
LAST-MODIFIED:20250903T193316Z
UID:4743-1760792400-1760806800@garnerhistoricdistrict.com
SUMMARY:Resonance & Enrichment Gallery Hours
DESCRIPTION:GARNER Arts Center
URL:https://garnerhistoricdistrict.com/event/resonance-enrichment-gallery-hours-15/
LOCATION:GARNER Arts Center\, Building 35
END:VEVENT
BEGIN:VEVENT
DTSTART;TZID=America/New_York:20251019T130000
DTEND;TZID=America/New_York:20251019T170000
DTSTAMP:20260422T105429
CREATED:20250903T193329Z
LAST-MODIFIED:20250903T193329Z
UID:4745-1760878800-1760893200@garnerhistoricdistrict.com
SUMMARY:Resonance & Enrichment Gallery Hours
DESCRIPTION:GARNER Arts Center
URL:https://garnerhistoricdistrict.com/event/resonance-enrichment-gallery-hours-16/
LOCATION:GARNER Arts Center\, Building 35
END:VEVENT
BEGIN:VEVENT
DTSTART;TZID=America/New_York:20251024T140000
DTEND;TZID=America/New_York:20251024T170000
DTSTAMP:20260422T105429
CREATED:20250903T193343Z
LAST-MODIFIED:20250903T193343Z
UID:4747-1761314400-1761325200@garnerhistoricdistrict.com
SUMMARY:Resonance & Enrichment Gallery Hours
DESCRIPTION:GARNER Arts Center
URL:https://garnerhistoricdistrict.com/event/resonance-enrichment-gallery-hours-17/
LOCATION:GARNER Arts Center\, Building 35
END:VEVENT
BEGIN:VEVENT
DTSTART;TZID=America/New_York:20251025T130000
DTEND;TZID=America/New_York:20251025T170000
DTSTAMP:20260422T105429
CREATED:20250903T193356Z
LAST-MODIFIED:20250903T193356Z
UID:4749-1761397200-1761411600@garnerhistoricdistrict.com
SUMMARY:Resonance & Enrichment Gallery Hours
DESCRIPTION:GARNER Arts Center
URL:https://garnerhistoricdistrict.com/event/resonance-enrichment-gallery-hours-18/
LOCATION:GARNER Arts Center\, Building 35
END:VEVENT
BEGIN:VEVENT
DTSTART;TZID=America/New_York:20251026T130000
DTEND;TZID=America/New_York:20251026T170000
DTSTAMP:20260422T105429
CREATED:20250903T193410Z
LAST-MODIFIED:20250903T193424Z
UID:4751-1761483600-1761498000@garnerhistoricdistrict.com
SUMMARY:Resonance & Enrichment Gallery Hours
DESCRIPTION:GARNER Arts Center
URL:https://garnerhistoricdistrict.com/event/resonance-enrichment-gallery-hours-19/
LOCATION:GARNER Arts Center\, Building 35
END:VEVENT
END:VCALENDAR